BEGIN:VCALENDAR
VERSION:2.0
PRODID:-//Marka - Appelez-moi Serge - ECPv6.9.1//NONSGML v1.0//EN
CALSCALE:GREGORIAN
METHOD:PUBLISH
X-WR-CALNAME:Marka - Appelez-moi Serge
X-ORIGINAL-URL:https://marka.be
X-WR-CALDESC:Évènements pour Marka - Appelez-moi Serge
REFRESH-INTERVAL;VALUE=DURATION:PT1H
X-Robots-Tag:noindex
X-PUBLISHED-TTL:PT1H
BEGIN:VTIMEZONE
TZID:Europe/Brussels
BEGIN:DAYLIGHT
TZOFFSETFROM:+0100
TZOFFSETTO:+0200
TZNAME:CEST
DTSTART:20260329T010000
END:DAYLIGHT
BEGIN:STANDARD
TZOFFSETFROM:+0200
TZOFFSETTO:+0100
TZNAME:CET
DTSTART:20261025T010000
END:STANDARD
END:VTIMEZONE
BEGIN:VEVENT
DTSTART;TZID=Europe/Brussels:20260919T000000
DTEND;TZID=Europe/Brussels:20260919T000000
DTSTAMP:20260421T143540
CREATED:20260113T162123Z
LAST-MODIFIED:20260113T162123Z
UID:2908-1789776000-1789776000@marka.be
SUMMARY:Seneffe
DESCRIPTION:Infos à suivre \nMarka se produira avec Tony La Monica\, son complice depuis 2020. \nL’idée est de se retrouver en duo sur scène\, comme si nous étions dans une grange. Un juke joint blues à la belge. \nLe matériel mis à disposition est sommaire: deux guitares et une grosse caisse. \nMarka y reprendra ses titres les plus anciens ainsi que ceux du nouvel album acoustique « Appelez-moi Serge » qui accompagnera cette tournée (distribution PIAS dès mars 2025). Les arrangements sont simples\, sans artifice et laissent la place aux textes signés MC Solaar\, Jacques Duvall\, Riton Liebman ou Marka. \nIls seront rejoints par Benoît Poncin à la contrebasse et Pierre Ducaju au clavier pour un concert à l’ambiance unique.
URL:https://marka.be/evenement/seneffe/
END:VEVENT
END:VCALENDAR